BEGIN:VCALENDAR
VERSION:2.0
PRODID:-//Allesley Primary School - ECPv6.14.2//NONSGML v1.0//EN
CALSCALE:GREGORIAN
METHOD:PUBLISH
X-ORIGINAL-URL:https://www.allesleyprimary.co.uk
X-WR-CALDESC:Events for Allesley Primary School
REFRESH-INTERVAL;VALUE=DURATION:PT1H
X-Robots-Tag:noindex
X-PUBLISHED-TTL:PT1H
BEGIN:VTIMEZONE
TZID:Europe/London
BEGIN:DAYLIGHT
TZOFFSETFROM:+0000
TZOFFSETTO:+0100
TZNAME:BST
DTSTART:20250330T010000
END:DAYLIGHT
BEGIN:STANDARD
TZOFFSETFROM:+0100
TZOFFSETTO:+0000
TZNAME:GMT
DTSTART:20251026T010000
END:STANDARD
END:VTIMEZONE
BEGIN:VEVENT
DTSTART;TZID=Europe/London:20250307T133000
DTEND;TZID=Europe/London:20250311T123000
DTSTAMP:20260421T093016
CREATED:20250303T150749Z
LAST-MODIFIED:20250303T150749Z
UID:9458-1741354200-1741696200@www.allesleyprimary.co.uk
SUMMARY:Yr 6 Visit to Plas Dol-Y-Moch
DESCRIPTION:Our amazing year 6 children are going on their residential course to North Wales where they will be enjoying kayaking\, orienteering and mine exploration amongst other activities.
URL:https://www.allesleyprimary.co.uk/event/yr-6-visit-to-plas-dol-y-moch/
END:VEVENT
END:VCALENDAR